BEGIN:VCALENDAR
VERSION:2.0
PRODID:-//108. Grundschule Dresden - ECPv6.0.5//NONSGML v1.0//EN
CALSCALE:GREGORIAN
METHOD:PUBLISH
X-ORIGINAL-URL:https://108.gs-dresden.de
X-WR-CALDESC:Events for 108. Grundschule Dresden
REFRESH-INTERVAL;VALUE=DURATION:PT1H
X-Robots-Tag:noindex
X-PUBLISHED-TTL:PT1H
BEGIN:VTIMEZONE
TZID:Europe/Berlin
BEGIN:DAYLIGHT
TZOFFSETFROM:+0100
TZOFFSETTO:+0200
TZNAME:CEST
DTSTART:20230326T010000
END:DAYLIGHT
BEGIN:STANDARD
TZOFFSETFROM:+0200
TZOFFSETTO:+0100
TZNAME:CET
DTSTART:20231029T010000
END:STANDARD
END:VTIMEZONE
BEGIN:VEVENT
DTSTART;VALUE=DATE:20230530
DTEND;VALUE=DATE:20230531
DTSTAMP:20260423T064901
CREATED:20221019T141009Z
LAST-MODIFIED:20221019T141009Z
UID:2990-1685404800-1685491199@108.gs-dresden.de
SUMMARY:Unterrichtsfrei (beweglicher Feiertag)
DESCRIPTION:
URL:https://108.gs-dresden.de/event/unterrichtsfrei-beweglicher-feiertag/
END:VEVENT
END:VCALENDAR